2.11565585
0
0
-2.11565585
632946.520684353
6151623.15854752
