2.11565585
0
0
-2.11565585
615092.988873327
6170379.08110846
