3.73488229
0
0
-3.73488229
515604.72603853
1742274.94933152
