3.73488229
0
0
-3.73488229
506551.73435849
1748484.10516485
