2.10923699
0
0
-2.10923699
443495.36467903
1748478.64316872
