2.11666666
0
0
-2.11666666
444101.606743961
6184206.95170990
