2.10923699
0
0
-2.10923699
569716.47391598
1754687.79900205
