2.11666666
0
0
-2.11666666
552263.509888529
6195714.41342027
