3.17412333
0
0
-3.17412333
489282.66575928
6202438.39544369
