2.10923699
0
0
-2.10923699
434479.72182189
1767106.11066871
