3.73488229
0
0
-3.73488229
353323.15461001
1767111.57266484
