3.73488229
0
0
-3.73488229
353315.68484543
1773320.72849817
