2.11575956
0
0
-2.11575956
407299.72461245
1779530.21927129
