3.73488229
0
0
-3.73488229
389269.94468758
1779619.52150646
