2.11657772
0
0
-2.11657772
371370.20958793
1779524.06753285
