3.73488229
0
0
-3.73488229
1011349.30183024
1922430.10567305
