2.10923699
0
0
-2.10923699
1002465.22182171
1922335.00650196
