3.73488229
0
0
-3.73488229
957255.44468740
1934848.41733971
