3.73488229
0
0
-3.73488229
939224.15897312
1947266.72900637
