2.11666666
0
0
-2.11666666
986162.765691806
6384314.12150869
