2.11666666
0
0
-2.11666666
986216.405453053
6390516.75015208
