2.11666666
0
0
-2.11666666
986270.046986645
6396719.40712909
