2.11666666
0
0
-2.11666666
959251.348473034
6396952.80300367
