2.11666666
0
0
-2.11666666
959304.868146352
6403155.49581518
