3.73488229
0
0
-3.73488229
876114.65897314
1972103.35233969
