3.73488229
0
0
-3.73488229
867099.01611600
1972103.35233969
