3.73488229
0
0
-3.73488229
966271.08754454
1978312.50817302
