2.11616856
0
0
-2.11616856
930340.18497785
1984426.11224350
