3.73488229
0
0
-3.73488229
903161.58754456
1984521.66400635
