3.73488229
0
0
-3.73488229
957255.44468740
1990730.81983968
