2.11666666
0
0
-2.11666666
986484.630911722
6421530.31894155
