2.11666666
0
0
-2.11666666
986538.281357569
6427733.11801331
