3.73488229
0
0
-3.73488229
885130.30183028
1996939.97567301
