2.11666666
0
0
-2.11666666
977585.45653402
6434013.81939951
