2.11666666
0
0
-2.11666666
986806.560544634
6458747.54151712
