2.11666666
0
0
-2.11666666
968846.848558459
6465106.22509687
