2.11666666
0
0
-2.11666666
959840.156426303
6465183.99090557
