2.11666666
0
0
-2.11666666
986913.884863947
6471153.51125793
