2.11666666
0
0
-2.11666666
977907.158447299
6471231.40062186
