2.11666666
0
0
-2.11666666
932873.472024618
6471619.93926908
