3.17412333
0
0
-3.17412333
914862.482090928
6471773.37631297
