2.11666666
0
0
-2.11666666
968954.009752164
6477512.26252859
