2.11666666
0
0
-2.11666666
1005034.82456891
6483403.62472878
