2.11666666
0
0
-2.11666666
969007.592950699
6483715.32434862
