2.11657772
0
0
-2.11657772
903274.08895971
2052726.92419937
