2.11666666
0
0
-2.11666666
941987.130427467
6483948.46212293
