2.11666666
0
0
-2.11666666
996081.73278763
6489684.72332965
