2.11616856
0
0
-2.11616856
903265.74621515
2058935.98224346
