2.11666666
0
0
-2.11666666
987128.555331422
6495965.79545473
