4.23315545
0
0
-4.23315545
921326.54044975
2065147.35244495
